View In:
  ArcGIS JavaScript
  ArcGIS Online map viewer
  Google Earth
  ArcMap
View Footprint In:
  ArcGIS Online map viewer
Service Description:  Digital Terrain Model 
Name:  DigitalTerrainModel 
Description:  Digital Terrain Model 
Single Fused Map Cache:  false
Extent: 
XMin: 5891951.5
YMin: 2095313.5
XMax: 6710291.5
YMax: 2512298.5
Spatial Reference: PROJCS["NAD_1983_Lambert_Conformal_Conic",GEOGCS["GCS_North_American_1983",DATUM["D_North_American_1983",SPHEROID["GRS_1980",6378137.0,298.257222101]],PRIMEM["Greenwich",0.0],UNIT["Degree",0.0174532925199433]],PROJECTION["Lambert_Conformal_Conic"],PARAMETER["False_Easting",6561666.666666666],PARAMETER["False_Northing",1640416.666666667],PARAMETER["Central_Meridian",-118.0],PARAMETER["Standard_Parallel_1",34.03333333333333],PARAMETER["Standard_Parallel_2",35.46666666666667],PARAMETER["Latitude_Of_Origin",33.5],UNIT["Foot_US",0.3048006096012192]],VERTCS["Unknown VCS",VDATUM["Unknown"],PARAMETER["Vertical_Shift",0.0],PARAMETER["Direction",1.0],UNIT["Foot_US",0.3048006096012192]]
 
Initial Extent: 
XMin: 5891951.5
YMin: 2095313.5
XMax: 6710291.5
YMax: 2512298.5
Spatial Reference: PROJCS["NAD_1983_Lambert_Conformal_Conic",GEOGCS["GCS_North_American_1983",DATUM["D_North_American_1983",SPHEROID["GRS_1980",6378137.0,298.257222101]],PRIMEM["Greenwich",0.0],UNIT["Degree",0.0174532925199433]],PROJECTION["Lambert_Conformal_Conic"],PARAMETER["False_Easting",6561666.666666666],PARAMETER["False_Northing",1640416.666666667],PARAMETER["Central_Meridian",-118.0],PARAMETER["Standard_Parallel_1",34.03333333333333],PARAMETER["Standard_Parallel_2",35.46666666666667],PARAMETER["Latitude_Of_Origin",33.5],UNIT["Foot_US",0.3048006096012192]],VERTCS["Unknown VCS",VDATUM["Unknown"],PARAMETER["Vertical_Shift",0.0],PARAMETER["Direction",1.0],UNIT["Foot_US",0.3048006096012192]]
 
Full Extent: 
XMin: 5891951.5
YMin: 2095313.5
XMax: 6710291.5
YMax: 2512298.5
Spatial Reference: PROJCS["NAD_1983_Lambert_Conformal_Conic",GEOGCS["GCS_North_American_1983",DATUM["D_North_American_1983",SPHEROID["GRS_1980",6378137.0,298.257222101]],PRIMEM["Greenwich",0.0],UNIT["Degree",0.0174532925199433]],PROJECTION["Lambert_Conformal_Conic"],PARAMETER["False_Easting",6561666.666666666],PARAMETER["False_Northing",1640416.666666667],PARAMETER["Central_Meridian",-118.0],PARAMETER["Standard_Parallel_1",34.03333333333333],PARAMETER["Standard_Parallel_2",35.46666666666667],PARAMETER["Latitude_Of_Origin",33.5],UNIT["Foot_US",0.3048006096012192]],VERTCS["Unknown VCS",VDATUM["Unknown"],PARAMETER["Vertical_Shift",0.0],PARAMETER["Direction",1.0],UNIT["Foot_US",0.3048006096012192]]
 
Pixel Size X:  15.0 
Pixel Size Y:  15.0 
Band Count: 1
Pixel Type: U32
RasterFunction Infos:  N/A 
Mensuration Capabilities: Basic
Has Histograms:  true
Has Colormap:  false
Has Multi Dimensions :  false
Rendering Rule: 
Min Scale:  0
Max Scale:  0
Copyright Text:  
Service Data Type:  esriImageServiceDataTypeGeneric 
Min Values:  0 
Max Values:  8832 
Mean Values:  2388.5328697903333 
Standard Deviation Values:  1768.1712977958643 
Object ID Field:  
Fields: 
None
Default Mosaic Method:  Center 
Allowed Mosaic Methods:  
SortField:  
SortValue:  null 
Mosaic Operator:  First 
Default Compression Quality:  75 
Default Resampling Method:  Bilinear 
Max Record Count:  null 
Max Image Height:  4100 
Max Image Width:  15000 
Max Download Image Count:  null 
Max Mosaic Image Count:  null 
Allow Raster Function:  true 
Allow Compute TiePoints:  false 
Supports Statistics:  false 
Supports Advanced Queries:  false 
Use StandardizedQueries:  true 
Raster Type Infos: 
Name: Raster Dataset
Description: Supports all ArcGIS Raster Datasets
Help: 
Has Raster Attribute Table:  false 
Edit Fields Info:  null 
Ownership Based AccessControl For Rasters:  null 
Child Resources:
  
Info
  Histograms
  Key Properties
  Legend
  MultiDimensionalInfo
  rasterFunctionInfos
Supported Operations:
  
Export Image
  Identify
  Measure
  Compute Histograms
  Compute Statistics Histograms
  Get Samples
  Compute Class Statistics