View In:
ArcGIS JavaScript
ArcGIS Online map viewer
Google Earth
ArcMap
View Footprint In:
ArcGIS Online map viewer
Service Description: The Digital Raster Graphic (DRG) is a scanned image of a US Geological Survey (USGS) standard series topographic map that includes all collar information (e.g., legend, scale bar, index map, etc.) The DRGE is a non-proprietary product of a USGS DRG in which the map collar information has been removed.
Name: DRG
Description: The Digital Raster Graphic (DRG) is a scanned image of a US Geological Survey (USGS) standard series topographic map that includes all collar information (e.g., legend, scale bar, index map, etc.) The DRGE is a non-proprietary product of a USGS DRG in which the map collar information has been removed.
Single Fused Map Cache: false
Extent:
XMin: -187223.57599272789
YMin: -448422.68354567897
XMax: 372643.22400727205
YMax: -215098.28354567895
Spatial Reference: PROJCS["Custom",GEOGCS["GCS_North_American_1927",DATUM["D_North_American_1927",SPHEROID["Clarke_1866",6378206.4,294.9786982]],PRIMEM["Greenwich",0.0],UNIT["Degree",0.0174532925199433]],PROJECTION["Albers"],PARAMETER["false_easting",0.0],PARAMETER["false_northing",-4000000.0],PARAMETER["central_meridian",-120.0],PARAMETER["standard_parallel_1",34.0],PARAMETER["standard_parallel_2",40.5],PARAMETER["latitude_of_origin",0.0],UNIT["Meter",1.0]]
Initial Extent:
XMin: -187223.57599272789
YMin: -448422.68354567897
XMax: 372643.22400727205
YMax: -215098.28354567895
Spatial Reference: PROJCS["Custom",GEOGCS["GCS_North_American_1927",DATUM["D_North_American_1927",SPHEROID["Clarke_1866",6378206.4,294.9786982]],PRIMEM["Greenwich",0.0],UNIT["Degree",0.0174532925199433]],PROJECTION["Albers"],PARAMETER["false_easting",0.0],PARAMETER["false_northing",-4000000.0],PARAMETER["central_meridian",-120.0],PARAMETER["standard_parallel_1",34.0],PARAMETER["standard_parallel_2",40.5],PARAMETER["latitude_of_origin",0.0],UNIT["Meter",1.0]]
Full Extent:
XMin: -187223.57599272789
YMin: -448422.68354567897
XMax: 372643.22400727205
YMax: -215098.28354567895
Spatial Reference: PROJCS["Custom",GEOGCS["GCS_North_American_1927",DATUM["D_North_American_1927",SPHEROID["Clarke_1866",6378206.4,294.9786982]],PRIMEM["Greenwich",0.0],UNIT["Degree",0.0174532925199433]],PROJECTION["Albers"],PARAMETER["false_easting",0.0],PARAMETER["false_northing",-4000000.0],PARAMETER["central_meridian",-120.0],PARAMETER["standard_parallel_1",34.0],PARAMETER["standard_parallel_2",40.5],PARAMETER["latitude_of_origin",0.0],UNIT["Meter",1.0]]
Pixel Size X: 25.4
Pixel Size Y: 25.400000000000002
Band Count: 3
Pixel Type: U8
RasterFunction Infos: N/A
Mensuration Capabilities: Basic
Has Histograms: true
Has Colormap: false
Has Multi Dimensions : false
Rendering Rule:
Min Scale: 0
Max Scale: 0
Copyright Text:
Service Data Type: esriImageServiceDataTypeRGB
Min Values: 0, 0, 0
Max Values: 255, 255, 255
Mean Values: 190.55153017458, 200.4775180601, 190.93888519005
Standard Deviation Values: 83.540910227016, 82.044896870648, 84.97142630511
Object ID Field:
Fields:
None
Default Mosaic Method: Center
Allowed Mosaic Methods:
SortField:
SortValue: null
Mosaic Operator: First
Default Compression Quality: 75
Default Resampling Method: Bilinear
Max Record Count: null
Max Image Height: 4100
Max Image Width: 15000
Max Download Image Count: null
Max Mosaic Image Count: null
Allow Raster Function: true
Allow Compute TiePoints: false
Supports Statistics: false
Supports Advanced Queries: false
Use StandardizedQueries: true
Raster Type Infos:
Name: Raster Dataset
Description: Supports all ArcGIS Raster Datasets
Help:
Has Raster Attribute Table: false
Edit Fields Info: null
Ownership Based AccessControl For Rasters: null
Child Resources:
Info
Histograms
Key Properties
Legend
MultiDimensionalInfo
rasterFunctionInfos
Supported Operations:
Export Image
Identify
Measure
Compute Histograms
Compute Statistics Histograms
Get Samples
Compute Class Statistics