<?xml version="1.0" encoding="UTF-8" standalone="no"?>
<metadata>
<idinfo>
<citation>
<citeinfo>
<origin>U.S. Department of Agriculture,
Natural Resources Conservation Service</origin>
<pubdate>20020529</pubdate>
<title>Digital Raster Graphic Mosaic of Kern County, California</title>
<geoform>remote-sensing image</geoform>
</citeinfo>
</citation>
<descript>
<abstract>The Digital Raster Graphic (DRG) is a scanned image of a US Geological Survey (USGS) standard series topographic map that includes all collar information (e.g., legend, scale bar, index map, etc.) The DRGE is a non-proprietary product of a USGS DRG in which the map collar information has been removed.</abstract>
<purpose>The DRGE is useful as a source or background layer in a GIS, as a means to perform quality assurance on other digital products, and as a source for the collection and revision of DLG data. The DRGE can also be merged with other digital data, e.g. DEM's or DOQ's, to produce a hybrid digital file. The removal of the collar information allows the DRGE to be edge-matched and displayed simultaneously in a Geographic Information System. These data are prepared for use by the Natural Resources Conservation Service for USDA Service Center personnel to administer agency programs.</purpose>
</descript>
<timeperd>
<timeinfo>
<rngdates>
<begdate>unknown</begdate>
<enddate>unknown</enddate>
</rngdates>
</timeinfo>
<current>Source Map</current>
</timeperd>
<status>
<progress>Complete</progress>
<update>None planned</update>
</status>
<spdom>
<bounding>
<westbc>
-120.270634</westbc>
<eastbc>
-117.494031</eastbc>
<northbc>
35.920868</northbc>
<southbc>
34.708341</southbc>
</bounding>
</spdom>
<keywords>
<theme>
<themekt>None</themekt>
<themekey>Digital Raster Graph</themekey>
<themekey>Digital Raster Graph Enhanced</themekey>
<themekey>DRG</themekey>
<themekey>DRGE</themekey>
<themekey>Topographic Map</themekey>
</theme>
<place>
<placekt>Counties and County Equivalents of the States of the United States and the District of Columbia (FIPS Pub 6-3)</placekt>
<placekey>Kern County</placekey>
<placekey>California</placekey>
<placekey>United States</placekey>
</place>
</keywords>
<accconst>None.</accconst>
<useconst>These data were prepared for Official Use Only by USDA employees as part of the Service Center Initiative.</useconst>
<ptcontac>
<cntinfo>
<cntperp>
<cntper>Geospatial Data Branch</cntper>
<cntorg>U.S. Department of Agriculture, Natural Resources Conservation Service</cntorg>
</cntperp>
<cntaddr>
<addrtype>mailing and physical address</addrtype>
<address>Federal Center, 501 W. Felix St., Bldg 23, P.O Box 6567</address>
<city>Fort Worth</city>
<state>Texas</state>
<postal>76115</postal>
<country>USA</country>
</cntaddr>
<cntvoice>(817) 509-3400</cntvoice>
<cntfax>(817) 509-3469</cntfax>
<hours>8:00 am to 4:30 pm, Central</hours>
</cntinfo>
</ptcontac>
<browse>
<browsen>withheld</browsen>
<browsed>unavailable</browsed>
<browset>unavailable</browset>
</browse>
<datacred>The original DRG was produced through an Innovative partnership agreement between The Land Information Technology Company, Ltd., of Aurora, CO and the USGS.</datacred>
<native>ESRI ArcCatalog 8.1.2.671</native>
</idinfo>
<dataqual>
<attracc>
<attraccr>In the source data, the DRGE is an 8-bit color image that employs a color palette to ensure uniform colors throughout a particular DRG series. All DRG's within a series have the same RGB value.</attraccr>
</attracc>
<logic>Not Applicable</logic>
<complete>According to the USGS, the DRG is a faithfully reproduced digital image of the original source map. Some differences may be detected between the source graphic used and the DRG due to the RGB values assigned that particular color. The intent is to recreate those colors as near as possible. Data completeness for DRG files reflect content of the source graphic. Features may have been eliminated or generalized on the source graphic due to scale and legibility constraints.</complete>
<posacc>
<horizpa>
<horizpar>The datum of the published map is retained to be consistent with other USGS digital data.</horizpar>
</horizpa>
<vertacc>
<vertaccr>NA</vertaccr>
</vertacc>
</posacc>
<lineage>
<srcinfo>
<srccite>
<citeinfo>
<origin>Beartooth Mapping, Inc.</origin>
<pubdate>2000</pubdate>
<pubtime>Unknown</pubtime>
<title>DRGE</title>
<geoform>map</geoform>
<pubinfo>
<pubplace>Reston, VA</pubplace>
<publish>U.S. Geological Survey</publish>
</pubinfo>
</citeinfo>
</srccite>
<srcscale>24,000</srcscale>
<typesrc>CD-ROM</typesrc>
<srctime>
<timeinfo>
<rngdates>
<begdate>unknown</begdate>
<enddate>unknown</enddate>
</rngdates>
</timeinfo>
<srccurr>publication date</srccurr>
</srctime>
<srccitea>DRGE</srccitea>
<srccontr>The DRG source map imagery was processed using the Spatial Analyst Extension to ArcView 3.1 (ESRI, Inc). The map collar was removed and portions of adjacent quadrangles were appended to the input image to produce a UTM rectangle output. DRGE images from the same map series (large, intermediate, and small scale) were processed by UTM zone to produce seamless output imagery within each Zone. The output ArcView Grid was converted to a TIFF 6.0 / GeoTIFF 1.0 image using the GridIO API (ESRI, Inc.), LibTiff Library (Copyright 1988-1998 Sam Leffler, 1991-1998 Silicon Graphics, Inc) and LibGeoTiff Library.
Additional information about DRGE imagery can be obtained from:
Beartooth Mapping, Inc.
PO Box 2075
Red Lodge, MT 59068
Telephone: (406) 446-1007
Email: info@beartoothmaps.com</srccontr>
</srcinfo>
<procstep>
<procdesc>Enhanced Digital Raster Graphs (DRGE) are used to create mosaics. All DRGE's for the area of interest, typically a county, are processed using geo-referencing information from the input images to create a consolidated MrSID image. The input images are in GeoTIFF format. The mosaic is compressed to a ratio of about 1:20 to save on storage requirements and to accelerate computer processing and display.
All DRGE's must be in the same UTM zone for MrSID Version 1.3 software to create a mosaic. In areas split by a UTM zone, DRGE's in the lesser zone are reprojected to the dominant UTM zone using ArcInfo, ERDAS Imagine or similar software</procdesc>
<srcused>withheld</srcused>
<procdate>20020522</procdate>
<srcprod>withheld</srcprod>
</procstep>
</lineage>
</dataqual>
<spdoinfo>
<direct>Raster</direct>
<rastinfo>
<rasttype>Pixel</rasttype>
<rowcount>53254</rowcount>
<colcount>102552</colcount>
<vrtcount>1</vrtcount>
</rastinfo>
</spdoinfo>
<spref>
<horizsys>
<planar>
<gridsys>
<gridsysn>Universal Transverse Mercator</gridsysn>
<utm>
<utmzone>11</utmzone>
<transmer>
<sfctrmer>0.999600</sfctrmer>
<longcm>-117.000000</longcm>
<latprjo>0.000000</latprjo>
<feast>500000.000000</feast>
<fnorth>0.000000</fnorth>
</transmer>
</utm>
</gridsys>
<planci>
<plance>row and column</plance>
<coordrep>
<absres>2.438400</absres>
<ordres>2.438400</ordres>
</coordrep>
<plandu>meters</plandu>
</planci>
</planar>
<geodetic>
<horizdn>North American Datum of 1983</horizdn>
<ellips>Geodetic Reference System 80</ellips>
<semiaxis>6378137.000000</semiaxis>
<denflat>298.257222</denflat>
</geodetic>
</horizsys>
</spref>
<eainfo>
<overview>
<eaover>In the source TIFF image (DRGE), each raster entity or pixel contains a color index from 0 through 12 referencing a color palette of RGB values from 0 through 255 in which the standard colors used in the DRGE are defined. The DRGE Color Palette (Digital Number, Color, Red, Green, Blue),
0 Black 0 0 0,
1 White 255 255 255,
2 Blue 0 151 164,
3 Red 203 0 23,
4 Brown 131 66 37,
5 Green 201 234 157,
6 Purple 137 51 128,
7 Yellow 255 234 0,
8 Light Blue 167 226 226,
9 Light Red 255 184 184,
10 Light Purple 218 179 214,
11 Light Grey 209 209 209,
12 Light Brown 207 164 142.
Essentially, the compressed mosaic contains three bands resulting in six colors when red, blue, and green are are used for image display. The colors represent the following: Contours - brown, Hydrography - blue, Public Land Survey System and other surveys - red, Updates - purple/magenta, Miscellaneous - black, and Vegetation - green.</eaover>
<eadetcit>U.S. Department of the Interior, U.S. Geological Survey, 1997, Standards for Digital Raster Graphs: Reston, VA.
Softcopy in Adobe Acrobat Portable Document File (PDF) format:
http://rmmcweb.cr.usgs.gov/public/nmpstds/drgstds.html</eadetcit>
</overview>
</eainfo>
<distinfo>
<distrib>
<cntinfo>
<cntperp>
<cntper>Geospatial Data Branch</cntper>
<cntorg>U.S. Department of Agriculture, Natural Resources Conservation Service, National Cartography and Geospatial Center</cntorg>
</cntperp>
<cntaddr>
<addrtype>mailing and physical address</addrtype>
<address>Federal Center, 501 W. Felix St., Bldg. 23, P.O. Box 6567</address>
<city>Fort Worth</city>
<state>Texas</state>
<postal>76115</postal>
<country>USA</country>
</cntaddr>
<cntvoice>(817) 509-3400</cntvoice>
<cntfax>(817) 509-3469</cntfax>
<hours>8:00 am to 4:30 pm, Central</hours>
</cntinfo>
</distrib>
<resdesc>Digital Raster Graph Mosaic</resdesc>
<distliab>Although these data have been processed successfully on a computer system at the U.S. Department of
Agriculture, no warranty expressed or implied is made by the Agency regarding the utility of the data on any other system, nor shall the act of distribution constitute any such warranty.
Any use of trade, product, or firm names is for descriptive purposes only and does not imply endorsement by the U.S. Government. The U.S. Department of Agriculture, nor any of its agencies are liable for misuse of the data, for damage, for transmission of viruses, or for computer contamination through the distribution of these data sets. The U.S. Department of Agriculture prohibits discrimination in its programs on the basis of race, color, national origin, sex, religion, age, disability, political beliefs, and marital or familial status. (Not all prohibited bases apply to
all programs.)</distliab>
<stdorder>
<digform>
<digtinfo>
<formname>MrSID</formname>
<filedec>No compression applied</filedec>
<transize>540.802</transize>
</digtinfo>
<digtopt>
<onlinopt>
<computer>
<networka>
<networkr>http://lighthouse.nrcs.usda.gov/gateway/gatewayhome.html.</networkr>
</networka>
</computer>
</onlinopt>
<offoptn>
<offmedia>CD-ROM</offmedia>
<reccap>
<recden>650</recden>
<recdenu>MB</recdenu>
</reccap>
<recfmt>ISO 9660, Level 2, Mode 1</recfmt>
</offoptn>
</digtopt>
</digform>
<fees>$50 per CD-ROM</fees>
</stdorder>
<availabl>
<timeinfo>
<rngdates>
<begdate>unknown</begdate>
<enddate>unknown</enddate>
</rngdates>
</timeinfo>
</availabl>
</distinfo>
<metainfo>
<metd>20020529</metd>
<metc>
<cntinfo>
<cntorgp>
<cntorg>U.S. Department of Agriculture, Natural Resources Conservation Service, National Cartography and Geospatial Center</cntorg>
<cntper>Geospatial Data Branch</cntper>
</cntorgp>
<cntaddr>
<addrtype>mailing and physical address</addrtype>
<address>Federal Center, 501 W. Felix St., Bldg. 23, P.O. Box 6567</address>
<city>Fort Worth</city>
<state>Texas</state>
<postal>76115</postal>
<country>USA</country>
</cntaddr>
<cntvoice>(817) 509-3400</cntvoice>
<cntfax>(817) 509-3469</cntfax>
<hours>8:00 am to 4:30 pm, Central</hours>
</cntinfo>
</metc>
<metstdn>FGDC Content Standards for Digital Geospatial Metadata</metstdn>
<metstdv>FGDC-STD-001-1998</metstdv>
<mettc>local time</mettc>
<metextns>
<onlink>http://www.esri.com/metadata/esriprof80.html</onlink>
<metprof>ESRI Metadata Profile</metprof>
</metextns>
</metainfo>
<Esri>
<ModDate>20020529</ModDate>
<ModTime>09420200</ModTime>
</Esri>
<dataIdInfo>
<idAbs>The Digital Raster Graphic (DRG) is a scanned image of a US Geological Survey (USGS) standard series topographic map that includes all collar information (e.g., legend, scale bar, index map, etc.) The DRGE is a non-proprietary product of a USGS DRG in which the map collar information has been removed.</idAbs>
<searchKeys>
<keyword>Kern County</keyword>
<keyword>California</keyword>
<keyword>United States</keyword>
<keyword>Digital Raster Graph</keyword>
<keyword>Digital Raster Graph Enhanced</keyword>
<keyword>DRG</keyword>
<keyword>DRGE</keyword>
<keyword>Topographic Map</keyword>
</searchKeys>
<idPurp>The DRGE is useful as a source or background layer in a GIS, as a means to perform quality assurance on other digital products, and as a source for the...</idPurp>
<idCredit/>
<resConst>
<Consts>
<useLimit/>
</Consts>
</resConst>
<idCitation>
<resTitle>Digital Raster Graphic Mosaic of Kern County, California</resTitle>
</idCitation>
</dataIdInfo>
</metadata>
