{
 "currentVersion": 10.41,
 "serviceDescription": "Kern County Hillshade",
 "name": "Hillshade",
 "description": "Kern County Hillshade",
 "extent": {
  "xmin": 5891951.5,
  "ymin": 2095313.5,
  "xmax": 6710291.5,
  "ymax": 2512298.5,
  "spatialReference": {
   "wkt": "PROJCS[\"NAD_1983_StatePlane_California_V_FIPS_0405\",GEOGCS[\"GCS_North_American_1983\",DATUM[\"D_North_American_1983\",SPHEROID[\"GRS_1980\",6378137.0,298.257222101]],PRIMEM[\"Greenwich\",0.0],UNIT[\"Degree\",0.0174532925199433]],PROJECTION[\"Lambert_Conformal_Conic\"],PARAMETER[\"false_easting\",6561666.666666667],PARAMETER[\"false_northing\",1640416.666666667],PARAMETER[\"central_meridian\",-118.0],PARAMETER[\"standard_parallel_1\",34.03333333333333],PARAMETER[\"standard_parallel_2\",35.46666666666667],PARAMETER[\"latitude_of_origin\",33.5],UNIT[\"Foot_US\",0.3048006096012192]]"
  }
 },
 "initialExtent": {
  "xmin": 5891951.5,
  "ymin": 2095313.5,
  "xmax": 6710291.5,
  "ymax": 2512298.5,
  "spatialReference": {
   "wkt": "PROJCS[\"NAD_1983_StatePlane_California_V_FIPS_0405\",GEOGCS[\"GCS_North_American_1983\",DATUM[\"D_North_American_1983\",SPHEROID[\"GRS_1980\",6378137.0,298.257222101]],PRIMEM[\"Greenwich\",0.0],UNIT[\"Degree\",0.0174532925199433]],PROJECTION[\"Lambert_Conformal_Conic\"],PARAMETER[\"false_easting\",6561666.666666667],PARAMETER[\"false_northing\",1640416.666666667],PARAMETER[\"central_meridian\",-118.0],PARAMETER[\"standard_parallel_1\",34.03333333333333],PARAMETER[\"standard_parallel_2\",35.46666666666667],PARAMETER[\"latitude_of_origin\",33.5],UNIT[\"Foot_US\",0.3048006096012192]]"
  }
 },
 "fullExtent": {
  "xmin": 5891951.5,
  "ymin": 2095313.5,
  "xmax": 6710291.5,
  "ymax": 2512298.5,
  "spatialReference": {
   "wkt": "PROJCS[\"NAD_1983_StatePlane_California_V_FIPS_0405\",GEOGCS[\"GCS_North_American_1983\",DATUM[\"D_North_American_1983\",SPHEROID[\"GRS_1980\",6378137.0,298.257222101]],PRIMEM[\"Greenwich\",0.0],UNIT[\"Degree\",0.0174532925199433]],PROJECTION[\"Lambert_Conformal_Conic\"],PARAMETER[\"false_easting\",6561666.666666667],PARAMETER[\"false_northing\",1640416.666666667],PARAMETER[\"central_meridian\",-118.0],PARAMETER[\"standard_parallel_1\",34.03333333333333],PARAMETER[\"standard_parallel_2\",35.46666666666667],PARAMETER[\"latitude_of_origin\",33.5],UNIT[\"Foot_US\",0.3048006096012192]]"
  }
 },
 "pixelSizeX": 15,
 "pixelSizeY": 15,
 "bandCount": 1,
 "pixelType": "U8",
 "minPixelSize": 0,
 "maxPixelSize": 0,
 "copyrightText": "",
 "serviceDataType": "esriImageServiceDataTypeGeneric",
 "minValues": [
  0
 ],
 "maxValues": [
  254
 ],
 "meanValues": [
  0
 ],
 "stdvValues": [
  -1
 ],
 "objectIdField": "",
 "fields": [],
 "capabilities": "Mensuration,Image,Metadata",
 "defaultMosaicMethod": "Center",
 "allowedMosaicMethods": "",
 "sortField": "",
 "sortValue": null,
 "mosaicOperator": "First",
 "defaultCompressionQuality": 75,
 "defaultResamplingMethod": "Bilinear",
 "maxImageHeight": 4100,
 "maxImageWidth": 15000,
 "allowRasterFunction": true,
 "rasterFunctionInfos": [],
 "rasterTypeInfos": [
  {
   "name": "Raster Dataset",
   "description": "Supports all ArcGIS Raster Datasets",
   "help": ""
  }
 ],
 "mensurationCapabilities": "Basic",
 "hasHistograms": true,
 "hasColormap": false,
 "hasRasterAttributeTable": false,
 "minScale": 0,
 "maxScale": 0,
 "exportTilesAllowed": false,
 "hasMultidimensions": false,
 "supportsStatistics": false,
 "supportsAdvancedQueries": false,
 "editFieldsInfo": null,
 "ownershipBasedAccessControlForRasters": null,
 "allowComputeTiePoints": false,
 "useStandardizedQueries": true,
 "advancedQueryCapabilities": {
  "useStandardizedQueries": true,
  "supportsStatistics": false,
  "supportsOrderBy": false,
  "supportsDistinct": false,
  "supportsPagination": false
 },
 "spatialReference": {
  "wkt": "PROJCS[\"NAD_1983_StatePlane_California_V_FIPS_0405\",GEOGCS[\"GCS_North_American_1983\",DATUM[\"D_North_American_1983\",SPHEROID[\"GRS_1980\",6378137.0,298.257222101]],PRIMEM[\"Greenwich\",0.0],UNIT[\"Degree\",0.0174532925199433]],PROJECTION[\"Lambert_Conformal_Conic\"],PARAMETER[\"false_easting\",6561666.666666667],PARAMETER[\"false_northing\",1640416.666666667],PARAMETER[\"central_meridian\",-118.0],PARAMETER[\"standard_parallel_1\",34.03333333333333],PARAMETER[\"standard_parallel_2\",35.46666666666667],PARAMETER[\"latitude_of_origin\",33.5],UNIT[\"Foot_US\",0.3048006096012192]]"
 }
}
